BEGIN:VCALENDAR
VERSION:2.0
METHOD:PUBLISH
CALSCALE:GREGORIAN
PRODID:-//Refresh Web Development//Helios Calendar//EN
X-FROM-URL:https://www.bayareascience.org/calendar/index.php?com=details&eID=36099
X-WR-RELCALID:BayAreaScience.org Climate Conversations: Affordable Housing and the Environment - Livestream 20240523T170000
X-WR-TIMEZONE:America/New_York
X-WR-CALNAME:BayAreaScience.org
BEGIN:VEVENT
URL;VALUE=URI:https://www.bayareascience.org/calendar/index.php?com=detail&eID=36099
DTSTART:20240523T170000
DTEND:20240523T180000
SUMMARY:Climate Conversations: Affordable Housing and the Environment - Livestream
DESCRIPTION:The Bay Area is severely behind on producing affordable housing. Nearly half of Bay Area renters are rent burdened and 38\,000 people are experiencing homelessness....\n______________________________\nThis Event Downloaded From a Helios Calendar Powered Site
LOCATION:Acterra -  \, \, CA  
CATEGORIES:BayAreaScience.org Events
PRIORITY:0
TRANSP:TRANSPARENT
END:VEVENT
END:VCALENDAR