BEGIN:VCALENDAR
VERSION:2.0
METHOD:PUBLISH
CALSCALE:GREGORIAN
PRODID:-//Refresh Web Development//Helios Calendar//EN
X-FROM-URL:https://www.bayareascience.org/calendar/index.php?com=details&eID=36102
X-WR-RELCALID:BayAreaScience.org Monofluorinated Ether Electrolyte with Acetal Backbone for High-Performance Lithium Metal Batteries - Livestream 20240530T100000
X-WR-TIMEZONE:America/New_York
X-WR-CALNAME:BayAreaScience.org
BEGIN:VEVENT
URL;VALUE=URI:https://www.bayareascience.org/calendar/index.php?com=detail&eID=36102
DTSTART:20240530T100000
DTEND:20240530T110000
SUMMARY:Monofluorinated Ether Electrolyte with Acetal Backbone for High-Performance Lithium Metal Batteries - Livestream
DESCRIPTION:\n______________________________\nThis Event Downloaded From a Helios Calendar Powered Site
LOCATION:Stanford University -  \, \, CA  
CATEGORIES:BayAreaScience.org Events
PRIORITY:0
TRANSP:TRANSPARENT
END:VEVENT
END:VCALENDAR