BEGIN:VCALENDAR
VERSION:2.0
METHOD:PUBLISH
CALSCALE:GREGORIAN
PRODID:-//Refresh Web Development//Helios Calendar//EN
X-FROM-URL:https://www.bayareascience.org/calendar/index.php?com=details&eID=36111
X-WR-RELCALID:BayAreaScience.org Hunga Tonga eruption as an exemplar for shallow submarine volcanism : Analyzing the plume dynamics & radiative effects 20240528T120000
X-WR-TIMEZONE:America/New_York
X-WR-CALNAME:BayAreaScience.org
BEGIN:VEVENT
URL;VALUE=URI:https://www.bayareascience.org/calendar/index.php?com=detail&eID=36111
DTSTART:20240528T120000
DTEND:20240528T131500
SUMMARY:Hunga Tonga eruption as an exemplar for shallow submarine volcanism : Analyzing the plume dynamics & radiative effects
DESCRIPTION:\n______________________________\nThis Event Downloaded From a Helios Calendar Powered Site
LOCATION:Braun (Geology) Corner Bldg 320 - 450 Serra Mall \, Stanford\, CA  94305
CATEGORIES:BayAreaScience.org Events
PRIORITY:0
TRANSP:TRANSPARENT
END:VEVENT
END:VCALENDAR