BEGIN:VCALENDAR
VERSION:2.0
METHOD:PUBLISH
CALSCALE:GREGORIAN
PRODID:-//Refresh Web Development//Helios Calendar//EN
X-FROM-URL:https://www.bayareascience.org/calendar/index.php?com=details&eID=36115
X-WR-RELCALID:BayAreaScience.org  Serendipity and Salt Ponds - Livestream 20240620T190000
X-WR-TIMEZONE:America/New_York
X-WR-CALNAME:BayAreaScience.org
BEGIN:VEVENT
URL;VALUE=URI:https://www.bayareascience.org/calendar/index.php?com=detail&eID=36115
DTSTART:20240620T190000
DTEND:20240620T203000
SUMMARY: Serendipity and Salt Ponds - Livestream
DESCRIPTION:California experienced rapid and widespread destruction and modification of natural hydrological ecosystems and wetlands after the Gold Rush\, including the loss of nearly all tidal wetlands in...\n______________________________\nThis Event Downloaded From a Helios Calendar Powered Site
LOCATION:Golden Gate Bird Alliance -  \, \, CA  
CATEGORIES:BayAreaScience.org Events
PRIORITY:0
TRANSP:TRANSPARENT
END:VEVENT
END:VCALENDAR