BEGIN:VCALENDAR
VERSION:2.0
METHOD:PUBLISH
CALSCALE:GREGORIAN
PRODID:-//Refresh Web Development//Helios Calendar//EN
X-FROM-URL:https://www.bayareascience.org/calendar/index.php?com=details&eID=36119
X-WR-RELCALID:BayAreaScience.org Heat Pumps: An Emerging Tool to Support Better Health, Cleaner Air, and More Affordable Energy for All - Livestream 20240606T100000
X-WR-TIMEZONE:America/New_York
X-WR-CALNAME:BayAreaScience.org
BEGIN:VEVENT
URL;VALUE=URI:https://www.bayareascience.org/calendar/index.php?com=detail&eID=36119
DTSTART:20240606T100000
DTEND:20240606T100000
SUMMARY:Heat Pumps: An Emerging Tool to Support Better Health\, Cleaner Air\, and More Affordable Energy for All - Livestream
DESCRIPTION:Public health practitioners\, policymakers\, and community advocates alike will have an opportunity to learn about the compelling evidence of the economic\, environmental\, and health benefits of heat...\n______________________________\nThis Event Downloaded From a Helios Calendar Powered Site
LOCATION:Network for Public Health Law -  \, \, CA  
CATEGORIES:BayAreaScience.org Events
PRIORITY:0
TRANSP:TRANSPARENT
END:VEVENT
END:VCALENDAR