BEGIN:VCALENDAR
VERSION:2.0
METHOD:PUBLISH
CALSCALE:GREGORIAN
PRODID:-//Refresh Web Development//Helios Calendar//EN
X-FROM-URL:https://www.bayareascience.org/calendar/index.php?com=details&eID=36120
X-WR-RELCALID:BayAreaScience.org Oceans Seminar 20240531T120000
X-WR-TIMEZONE:America/New_York
X-WR-CALNAME:BayAreaScience.org
BEGIN:VEVENT
URL;VALUE=URI:https://www.bayareascience.org/calendar/index.php?com=detail&eID=36120
DTSTART:20240531T120000
DTEND:20240531T130000
SUMMARY:Oceans Seminar
DESCRIPTION:For the eighth installment of the Oceans' SpringÂ SeminarÂ Series our guest speaker is the Oceans Department's very own Fiorenza Micheli. For her talk\, Fio will be diving into the insights...\n______________________________\nThis Event Downloaded From a Helios Calendar Powered Site
LOCATION:Mitchell Earth Sciences Building (04-560) - 397 Panama Mall Stanford University\, Stanford\, CA  94305
CATEGORIES:BayAreaScience.org Events
PRIORITY:0
TRANSP:TRANSPARENT
END:VEVENT
END:VCALENDAR