BEGIN:VCALENDAR
VERSION:2.0
METHOD:PUBLISH
CALSCALE:GREGORIAN
PRODID:-//Refresh Web Development//Helios Calendar//EN
X-FROM-URL:https://www.bayareascience.org/calendar/index.php?com=details&eID=36122
X-WR-RELCALID:BayAreaScience.org 'Invisible Rulers' Book Talk 20240618T180000
X-WR-TIMEZONE:America/New_York
X-WR-CALNAME:BayAreaScience.org
BEGIN:VEVENT
URL;VALUE=URI:https://www.bayareascience.org/calendar/index.php?com=detail&eID=36122
DTSTART:20240618T180000
DTEND:20240618T190000
SUMMARY:'Invisible Rulers' Book Talk
DESCRIPTION:Join us for a book talk with author RenÃ©e DiResta! Her new book\, Invisible Rulers: The People Who Turn Lies Into Reality\, is an â€œessential and rivetingâ€ (Jonathan...\n______________________________\nThis Event Downloaded From a Helios Calendar Powered Site
LOCATION:Manny's - 3092 16th St \, San Francisco\, CA  94103
CATEGORIES:BayAreaScience.org Events
PRIORITY:0
TRANSP:TRANSPARENT
END:VEVENT
END:VCALENDAR