BEGIN:VCALENDAR
VERSION:2.0
METHOD:PUBLISH
CALSCALE:GREGORIAN
PRODID:-//Refresh Web Development//Helios Calendar//EN
X-FROM-URL:https://www.bayareascience.org/calendar/index.php?com=details&eID=36126
X-WR-RELCALID:BayAreaScience.org The Rhythms of Summer: From the Solstice to Steel Drums 20240623T110000
X-WR-TIMEZONE:America/New_York
X-WR-CALNAME:BayAreaScience.org
BEGIN:VEVENT
URL;VALUE=URI:https://www.bayareascience.org/calendar/index.php?com=detail&eID=36126
DTSTART:20240623T110000
DTEND:20240623T150000
SUMMARY:The Rhythms of Summer: From the Solstice to Steel Drums
DESCRIPTION:Feel the warmth of the sun and sand between your toes at our outdoor science party! Learn about the longest day of sunshine...\n______________________________\nThis Event Downloaded From a Helios Calendar Powered Site
LOCATION:Lawrence Hall of Science - 1 Centennial Drive \, Berkeley\, CA USA 94720
CATEGORIES:BayAreaScience.org Events
PRIORITY:0
TRANSP:TRANSPARENT
END:VEVENT
END:VCALENDAR