BEGIN:VCALENDAR
VERSION:2.0
METHOD:PUBLISH
CALSCALE:GREGORIAN
PRODID:-//Refresh Web Development//Helios Calendar//EN
X-FROM-URL:https://www.bayareascience.org/calendar/index.php?com=details&eID=36131
X-WR-RELCALID:BayAreaScience.org NASA Fest at Chabot 20240622T100000
X-WR-TIMEZONE:America/New_York
X-WR-CALNAME:BayAreaScience.org
BEGIN:VEVENT
URL;VALUE=URI:https://www.bayareascience.org/calendar/index.php?com=detail&eID=36131
DTSTART:20240622T100000
DTEND:20240622T160000
SUMMARY:NASA Fest at Chabot
DESCRIPTION:How do you organize a space party? You plan-et! Join us at Chabot for two days of astronomical fun for the whole family! Step into the shoes of a NASA engineer\, discover and play with real world...\n______________________________\nThis Event Downloaded From a Helios Calendar Powered Site
LOCATION:Chabot Space and Science Center - 10000 Skyline Blvd \, Oakland\, CA USA 94619
CATEGORIES:BayAreaScience.org Events
PRIORITY:0
TRANSP:TRANSPARENT
END:VEVENT
END:VCALENDAR