BEGIN:VCALENDAR
VERSION:2.0
METHOD:PUBLISH
CALSCALE:GREGORIAN
PRODID:-//Refresh Web Development//Helios Calendar//EN
X-FROM-URL:https://www.bayareascience.org/calendar/index.php?com=details&eID=36138
X-WR-RELCALID:BayAreaScience.org Planet Italy: Adventures in Teaching and Learning 20240622T193000
X-WR-TIMEZONE:America/New_York
X-WR-CALNAME:BayAreaScience.org
BEGIN:VEVENT
URL;VALUE=URI:https://www.bayareascience.org/calendar/index.php?com=detail&eID=36138
DTSTART:20240622T193000
DTEND:20240623T130000
SUMMARY:Planet Italy: Adventures in Teaching and Learning
DESCRIPTION:During 2023 Italy had a record 68 million visitors. That spring\, one of them was Andy Kreyche of Santa Cruz\, but his visit was far from typical. As a planetarium educator\, Andy was selected to...\n______________________________\nThis Event Downloaded From a Helios Calendar Powered Site
LOCATION:East Bay Astronomical Society - Chabot Space & Science Center\, 10000 Skyline Blvd Classroom 4 formerly knows as Copernicus\, Oakland\, CA  94619
CATEGORIES:BayAreaScience.org Events
PRIORITY:0
TRANSP:TRANSPARENT
END:VEVENT
END:VCALENDAR