BEGIN:VCALENDAR
VERSION:2.0
METHOD:PUBLISH
CALSCALE:GREGORIAN
PRODID:-//Refresh Web Development//Helios Calendar//EN
X-FROM-URL:https://www.bayareascience.org/calendar/index.php?com=details&eID=36141
X-WR-RELCALID:BayAreaScience.org ExtraOrdinary! Festival 20240616T110000
X-WR-TIMEZONE:America/New_York
X-WR-CALNAME:BayAreaScience.org
BEGIN:VEVENT
URL;VALUE=URI:https://www.bayareascience.org/calendar/index.php?com=detail&eID=36141
DTSTART:20240616T110000
DTEND:20240616T170000
SUMMARY:ExtraOrdinary! Festival
DESCRIPTION:Come enjoy the summerâ€™s most imaginative and playful exhibition! Be among the first to experience ExtraOrdinary! and the stunning artworks made from everyday objects. Don't forget...\n______________________________\nThis Event Downloaded From a Helios Calendar Powered Site
LOCATION:ExplOratorium - Pier 15 (Embarcadero at Green Street)  \, San Francisco\, CA USA 94111
CATEGORIES:BayAreaScience.org Events
PRIORITY:0
TRANSP:TRANSPARENT
END:VEVENT
END:VCALENDAR