BEGIN:VCALENDAR
VERSION:2.0
METHOD:PUBLISH
CALSCALE:GREGORIAN
PRODID:-//Refresh Web Development//Helios Calendar//EN
X-FROM-URL:https://www.bayareascience.org/calendar/index.php?com=details&eID=36142
X-WR-RELCALID:BayAreaScience.org Two talks: Blockchain Innovations: AI Integration and Security Trust - Livestream 20240611T160000
X-WR-TIMEZONE:America/New_York
X-WR-CALNAME:BayAreaScience.org
BEGIN:VEVENT
URL;VALUE=URI:https://www.bayareascience.org/calendar/index.php?com=detail&eID=36142
DTSTART:20240611T160000
DTEND:20240611T180000
SUMMARY:Two talks: Blockchain Innovations: AI Integration and Security Trust - Livestream
DESCRIPTION:Blockchain and AI for Industrial ApplicationsThe fusion of Blockchain and Artificial Intelligence (AI) heralds a new era of industrial innovation with opportunities...\n______________________________\nThis Event Downloaded From a Helios Calendar Powered Site
LOCATION:IEEE Consumer Technology -  \, \, CA  
CATEGORIES:BayAreaScience.org Events
PRIORITY:0
TRANSP:TRANSPARENT
END:VEVENT
END:VCALENDAR