BEGIN:VCALENDAR
VERSION:2.0
METHOD:PUBLISH
CALSCALE:GREGORIAN
PRODID:-//Refresh Web Development//Helios Calendar//EN
X-FROM-URL:https://www.bayareascience.org/calendar/index.php?com=details&eID=36144
X-WR-RELCALID:BayAreaScience.org Healthy Homes Presentation 20240606T140000
X-WR-TIMEZONE:America/New_York
X-WR-CALNAME:BayAreaScience.org
BEGIN:VEVENT
URL;VALUE=URI:https://www.bayareascience.org/calendar/index.php?com=detail&eID=36144
DTSTART:20240606T140000
DTEND:20240606T150000
SUMMARY:Healthy Homes Presentation
DESCRIPTION:Join us to learn about improving indoor air quality and controlling unwanted pests! Attendees will receive safer home cleaning training from City staff. Free cleaning supplies will be available...\n______________________________\nThis Event Downloaded From a Helios Calendar Powered Site
LOCATION:San Francisco Public Library - 100 Larkin St \, San Francisco\, CA  94102
CATEGORIES:BayAreaScience.org Events
PRIORITY:0
TRANSP:TRANSPARENT
END:VEVENT
END:VCALENDAR