BEGIN:VCALENDAR
VERSION:2.0
METHOD:PUBLISH
CALSCALE:GREGORIAN
PRODID:-//Refresh Web Development//Helios Calendar//EN
X-FROM-URL:https://www.bayareascience.org/calendar/index.php?com=details&eID=36156
X-WR-RELCALID:BayAreaScience.org Snapshot Cal Coast - Point Molate Intertidal Bioblitz 20240620T100000
X-WR-TIMEZONE:America/New_York
X-WR-CALNAME:BayAreaScience.org
BEGIN:VEVENT
URL;VALUE=URI:https://www.bayareascience.org/calendar/index.php?com=detail&eID=36156
DTSTART:20240620T100000
DTEND:20240620T130000
SUMMARY:Snapshot Cal Coast - Point Molate Intertidal Bioblitz
DESCRIPTION:Join Wholly H2O and the \n______________________________\nThis Event Downloaded From a Helios Calendar Powered Site
LOCATION:Point Molate Beach Park - 2092 Stenmark Dr \, Richmond\, CA  94801
CATEGORIES:BayAreaScience.org Events
PRIORITY:0
TRANSP:TRANSPARENT
END:VEVENT
END:VCALENDAR