BEGIN:VCALENDAR
VERSION:2.0
METHOD:PUBLISH
CALSCALE:GREGORIAN
PRODID:-//Refresh Web Development//Helios Calendar//EN
X-FROM-URL:https://www.bayareascience.org/calendar/index.php?com=details&eID=36158
X-WR-RELCALID:BayAreaScience.org Open House at San Jose AI Simplifiers - Livestream 20240612T180000
X-WR-TIMEZONE:America/New_York
X-WR-CALNAME:BayAreaScience.org
BEGIN:VEVENT
URL;VALUE=URI:https://www.bayareascience.org/calendar/index.php?com=detail&eID=36158
DTSTART:20240612T180000
DTEND:20240612T190000
SUMMARY:Open House at San Jose AI Simplifiers - Livestream
DESCRIPTION:Do you enjoy expressing ideas simply? No jargon\, just clear and effective language. Even a six-year-old will be eager to listen!Join us at the San Jose AI Simplifiers Club's Open House on...\n______________________________\nThis Event Downloaded From a Helios Calendar Powered Site
LOCATION:San Jose AI Simplifiers -  \, \, CA  
CATEGORIES:BayAreaScience.org Events
PRIORITY:0
TRANSP:TRANSPARENT
END:VEVENT
END:VCALENDAR