BEGIN:VCALENDAR
VERSION:2.0
METHOD:PUBLISH
CALSCALE:GREGORIAN
PRODID:-//Refresh Web Development//Helios Calendar//EN
X-FROM-URL:https://www.bayareascience.org/calendar/index.php?com=details&eID=36169
X-WR-RELCALID:BayAreaScience.org In it together: Microbial interactions with threatened marine hosts and ecosystems 20240715T110000
X-WR-TIMEZONE:America/New_York
X-WR-CALNAME:BayAreaScience.org
BEGIN:VEVENT
URL;VALUE=URI:https://www.bayareascience.org/calendar/index.php?com=detail&eID=36169
DTSTART:20240715T110000
DTEND:20240715T120000
SUMMARY:In it together: Microbial interactions with threatened marine hosts and ecosystems
DESCRIPTION:\n______________________________\nThis Event Downloaded From a Helios Calendar Powered Site
LOCATION:UC Davis Bodega Marine Laboratory Research Talks - 2099 Westside Rd South Wing Lounge\, Bodega Bay\, CA  94923
CATEGORIES:BayAreaScience.org Events
PRIORITY:0
TRANSP:TRANSPARENT
END:VEVENT
END:VCALENDAR