BEGIN:VCALENDAR
VERSION:2.0
METHOD:PUBLISH
CALSCALE:GREGORIAN
PRODID:-//Refresh Web Development//Helios Calendar//EN
X-FROM-URL:https://www.bayareascience.org/calendar/index.php?com=details&eID=36171
X-WR-RELCALID:BayAreaScience.org BioBlitz at Coyote Creek Visitor Center 20240713T090000
X-WR-TIMEZONE:America/New_York
X-WR-CALNAME:BayAreaScience.org
BEGIN:VEVENT
URL;VALUE=URI:https://www.bayareascience.org/calendar/index.php?com=detail&eID=36171
DTSTART:20240713T090000
DTEND:20240713T113000
SUMMARY:BioBlitz at Coyote Creek Visitor Center
DESCRIPTION:A BioBlitz is an event that focuses on finding and identifying as many species as possible in a specific area over a short period of time. At a BioBlitz\, scientists\, families\, students\, teachers\,...\n______________________________\nThis Event Downloaded From a Helios Calendar Powered Site
LOCATION:Coyote Creek Visitor Center at Anderson Lake - 19245 Malaguerra Ave \, Morgan Hill\, CA  95037
CATEGORIES:BayAreaScience.org Events
PRIORITY:0
TRANSP:TRANSPARENT
END:VEVENT
END:VCALENDAR