BEGIN:VCALENDAR
VERSION:2.0
METHOD:PUBLISH
CALSCALE:GREGORIAN
PRODID:-//Refresh Web Development//Helios Calendar//EN
X-FROM-URL:https://www.bayareascience.org/calendar/index.php?com=details&eID=36173
X-WR-RELCALID:BayAreaScience.org Sunset Walk at Bair Island 20240719T180000
X-WR-TIMEZONE:America/New_York
X-WR-CALNAME:BayAreaScience.org
BEGIN:VEVENT
URL;VALUE=URI:https://www.bayareascience.org/calendar/index.php?com=detail&eID=36173
DTSTART:20240719T180000
DTEND:20240719T200000
SUMMARY:Sunset Walk at Bair Island
DESCRIPTION:Join Peninsula Open Space Trust for a walking tour at the Bair Island Unit of the Don Edwards San Francisco Bay National Wildlife Refuge! Youâ€™ll be guided by POST ambassadors who will share...\n______________________________\nThis Event Downloaded From a Helios Calendar Powered Site
LOCATION:Bair Island Wildlife Refuge & Trail - 3 Uccelli Blvd \, Redwood City\, CA  94063
CATEGORIES:BayAreaScience.org Events
PRIORITY:0
TRANSP:TRANSPARENT
END:VEVENT
END:VCALENDAR