BEGIN:VCALENDAR
VERSION:2.0
METHOD:PUBLISH
CALSCALE:GREGORIAN
PRODID:-//Refresh Web Development//Helios Calendar//EN
X-FROM-URL:https://www.bayareascience.org/calendar/index.php?com=details&eID=36179
X-WR-RELCALID:BayAreaScience.org JWST Astrochemistry: Beyond the Fabulous Images 20240613T190000
X-WR-TIMEZONE:America/New_York
X-WR-CALNAME:BayAreaScience.org
BEGIN:VEVENT
URL;VALUE=URI:https://www.bayareascience.org/calendar/index.php?com=detail&eID=36179
DTSTART:20240613T190000
DTEND:20240613T203000
SUMMARY:JWST Astrochemistry: Beyond the Fabulous Images
DESCRIPTION:Have you ever wondered what is beyond those fabulous images from the James Webb Space Telescope (JWST)? Or other telescopes like the VLT\, Spitzer\, SOFIA or Herschel. In this talk hosted...\n______________________________\nThis Event Downloaded From a Helios Calendar Powered Site
LOCATION:Los Altos Public Library - 13 S San Antonio Rd Peninsula Astronomical Society\, Los Altos\, CA  94022
CATEGORIES:BayAreaScience.org Events
PRIORITY:0
TRANSP:TRANSPARENT
END:VEVENT
END:VCALENDAR