BEGIN:VCALENDAR
VERSION:2.0
METHOD:PUBLISH
CALSCALE:GREGORIAN
PRODID:-//Refresh Web Development//Helios Calendar//EN
X-FROM-URL:https://www.bayareascience.org/calendar/index.php?com=details&eID=36180
X-WR-RELCALID:BayAreaScience.org SETI Live: Alien Earths: The New Science of Planet Hunting in the Cosmos - Livestream 20240613T143000
X-WR-TIMEZONE:America/New_York
X-WR-CALNAME:BayAreaScience.org
BEGIN:VEVENT
URL;VALUE=URI:https://www.bayareascience.org/calendar/index.php?com=detail&eID=36180
DTSTART:20240613T143000
DTEND:20240613T153000
SUMMARY:SETI Live: Alien Earths: The New Science of Planet Hunting in the Cosmos - Livestream
DESCRIPTION:Are we alone? This question continues to tantalize and mystify scientists and the public alike\, wondering if Earth contains not only the one known sample of life in the Universe but also the ONLY...\n______________________________\nThis Event Downloaded From a Helios Calendar Powered Site
LOCATION:SETI Institute -  \, \, CA  
CATEGORIES:BayAreaScience.org Events
PRIORITY:0
TRANSP:TRANSPARENT
END:VEVENT
END:VCALENDAR