BEGIN:VCALENDAR
VERSION:2.0
METHOD:PUBLISH
CALSCALE:GREGORIAN
PRODID:-//Refresh Web Development//Helios Calendar//EN
X-FROM-URL:https://www.bayareascience.org/calendar/index.php?com=details&eID=36182
X-WR-RELCALID:BayAreaScience.org Women in Batteries Conference 20240726T110000
X-WR-TIMEZONE:America/New_York
X-WR-CALNAME:BayAreaScience.org
BEGIN:VEVENT
URL;VALUE=URI:https://www.bayareascience.org/calendar/index.php?com=detail&eID=36182
DTSTART:20240726T110000
DTEND:20240726T190000
SUMMARY:Women in Batteries Conference
DESCRIPTION:Get ready to be inspired at the Women in Batteries Conference\, brought to you byÂ Volta FoundationÂ &Â Stanford...\n______________________________\nThis Event Downloaded From a Helios Calendar Powered Site
LOCATION:Cardinal Hall - 505 Broadway \, Redwood City\, CA  94063
CATEGORIES:BayAreaScience.org Events
PRIORITY:0
TRANSP:TRANSPARENT
END:VEVENT
END:VCALENDAR