BEGIN:VCALENDAR
VERSION:2.0
METHOD:PUBLISH
CALSCALE:GREGORIAN
PRODID:-//Refresh Web Development//Helios Calendar//EN
X-FROM-URL:https://www.bayareascience.org/calendar/index.php?com=details&eID=36187
X-WR-RELCALID:BayAreaScience.org Binocular Stargazing at Coyote Valley Open Space Preserve  20240629T213000
X-WR-TIMEZONE:America/New_York
X-WR-CALNAME:BayAreaScience.org
BEGIN:VEVENT
URL;VALUE=URI:https://www.bayareascience.org/calendar/index.php?com=detail&eID=36187
DTSTART:20240629T213000
DTEND:20240629T230000
SUMMARY:Binocular Stargazing at Coyote Valley Open Space Preserve 
DESCRIPTION:Binocular Stargazing is hosted by the Santa Clara County Open Space Authority with help from members of the San Jose Astronomical Association.Want to learn the...\n______________________________\nThis Event Downloaded From a Helios Calendar Powered Site
LOCATION:Coyote Valley Open Space Preserve - 550 Palm Ave \, Morgan Hill\, CA  95037
CATEGORIES:BayAreaScience.org Events
PRIORITY:0
TRANSP:TRANSPARENT
END:VEVENT
END:VCALENDAR