BEGIN:VCALENDAR
VERSION:2.0
METHOD:PUBLISH
CALSCALE:GREGORIAN
PRODID:-//Refresh Web Development//Helios Calendar//EN
X-FROM-URL:https://www.bayareascience.org/calendar/index.php?com=details&eID=36188
X-WR-RELCALID:BayAreaScience.org Hearts and Minds: Rebuilding Respect for Science Through Engaging Science Communication - Livestream 20240627T160000
X-WR-TIMEZONE:America/New_York
X-WR-CALNAME:BayAreaScience.org
BEGIN:VEVENT
URL;VALUE=URI:https://www.bayareascience.org/calendar/index.php?com=detail&eID=36188
DTSTART:20240627T160000
DTEND:20240627T160000
SUMMARY:Hearts and Minds: Rebuilding Respect for Science Through Engaging Science Communication - Livestream
DESCRIPTION:The American public is increasingly skeptical of experts\, including scientists\, healthcare professionals\, and other researchers. Many experts respond by sharing more facts and information and/or...\n______________________________\nThis Event Downloaded From a Helios Calendar Powered Site
LOCATION:Skeptical Inquirer -  \, \, CA  
CATEGORIES:BayAreaScience.org Events
PRIORITY:0
TRANSP:TRANSPARENT
END:VEVENT
END:VCALENDAR