BEGIN:VCALENDAR
VERSION:2.0
METHOD:PUBLISH
CALSCALE:GREGORIAN
PRODID:-//Refresh Web Development//Helios Calendar//EN
X-FROM-URL:https://www.bayareascience.org/calendar/index.php?com=details&eID=36189
X-WR-RELCALID:BayAreaScience.org Wrong Answers Only at The Independent 20240630T190000
X-WR-TIMEZONE:America/New_York
X-WR-CALNAME:BayAreaScience.org
BEGIN:VEVENT
URL;VALUE=URI:https://www.bayareascience.org/calendar/index.php?com=detail&eID=36189
DTSTART:20240630T190000
DTEND:20240630T190000
SUMMARY:Wrong Answers Only at The Independent
DESCRIPTION:Dark matter expert Risa Wechsler joins host Chris Duffy and an incredible panel of comedians for this science comedy game show!Produced by LabX\, a public engagement program at the National...\n______________________________\nThis Event Downloaded From a Helios Calendar Powered Site
LOCATION:The Independent  - 628 Divisadero St \, San Francisco\, CA US 94117
CATEGORIES:BayAreaScience.org Events
PRIORITY:0
TRANSP:TRANSPARENT
END:VEVENT
END:VCALENDAR