BEGIN:VCALENDAR
VERSION:2.0
METHOD:PUBLISH
CALSCALE:GREGORIAN
PRODID:-//Refresh Web Development//Helios Calendar//EN
X-FROM-URL:https://www.bayareascience.org/calendar/index.php?com=details&eID=36190
X-WR-RELCALID:BayAreaScience.org Artificial Intelligence: The Future of Medicine & Health Care Is Here 20240625T093000
X-WR-TIMEZONE:America/New_York
X-WR-CALNAME:BayAreaScience.org
BEGIN:VEVENT
URL;VALUE=URI:https://www.bayareascience.org/calendar/index.php?com=detail&eID=36190
DTSTART:20240625T093000
DTEND:20240625T120000
SUMMARY:Artificial Intelligence: The Future of Medicine & Health Care Is Here
DESCRIPTION:Artificial Intelligence (AI) is advancing the scientific understanding of disease\, improving the practice of clinical medicine\, and orchestrating the delivery of health care. Join Stanford Medicine...\n______________________________\nThis Event Downloaded From a Helios Calendar Powered Site
LOCATION:Dublin Ranch Golf Course - 5900 Signal Hill Dr \, Dublin\, CA  94568
CATEGORIES:BayAreaScience.org Events
PRIORITY:0
TRANSP:TRANSPARENT
END:VEVENT
END:VCALENDAR