BEGIN:VCALENDAR
VERSION:2.0
METHOD:PUBLISH
CALSCALE:GREGORIAN
PRODID:-//Refresh Web Development//Helios Calendar//EN
X-FROM-URL:https://www.bayareascience.org/calendar/index.php?com=details&eID=36196
X-WR-RELCALID:BayAreaScience.org Solstice Guided Hike 20240619T110000
X-WR-TIMEZONE:America/New_York
X-WR-CALNAME:BayAreaScience.org
BEGIN:VEVENT
URL;VALUE=URI:https://www.bayareascience.org/calendar/index.php?com=detail&eID=36196
DTSTART:20240619T110000
DTEND:20240619T133000
SUMMARY:Solstice Guided Hike
DESCRIPTION:It's officially\, finally summer! The longest day of the year\, June 20th marks the summer solstice\, or theÂ astronomicalÂ change from spring toÂ summer in the Northern Hemisphere. Around the...\n______________________________\nThis Event Downloaded From a Helios Calendar Powered Site
LOCATION:Muir Woods Visitor Center - 1 Muir Woods Rd \, Mill Valley\, CA  94941
CATEGORIES:BayAreaScience.org Events
PRIORITY:0
TRANSP:TRANSPARENT
END:VEVENT
END:VCALENDAR