BEGIN:VCALENDAR
VERSION:2.0
METHOD:PUBLISH
CALSCALE:GREGORIAN
PRODID:-//Refresh Web Development//Helios Calendar//EN
X-FROM-URL:https://www.bayareascience.org/calendar/index.php?com=details&eID=36202
X-WR-RELCALID:BayAreaScience.org Stewardship Saturday: Planting Trees to Restore San Francisco and the Ocean 20240727T084500
X-WR-TIMEZONE:America/New_York
X-WR-CALNAME:BayAreaScience.org
BEGIN:VEVENT
URL;VALUE=URI:https://www.bayareascience.org/calendar/index.php?com=detail&eID=36202
DTSTART:20240727T084500
DTEND:20240727T133000
SUMMARY:Stewardship Saturday: Planting Trees to Restore San Francisco and the Ocean
DESCRIPTION:This free program for high school students features rotating themes exploring the science of the Center.Join Friends of the Urban Forest and The Marine Mammal...\n______________________________\nThis Event Downloaded From a Helios Calendar Powered Site
LOCATION:Bayview -  \, San Francisco\, CA  94124
CATEGORIES:BayAreaScience.org Events
PRIORITY:0
TRANSP:TRANSPARENT
END:VEVENT
END:VCALENDAR