BEGIN:VCALENDAR
VERSION:2.0
METHOD:PUBLISH
CALSCALE:GREGORIAN
PRODID:-//Refresh Web Development//Helios Calendar//EN
X-FROM-URL:https://www.bayareascience.org/calendar/index.php?com=details&eID=36204
X-WR-RELCALID:BayAreaScience.org Remote sensing of greenhouse gas emissions from the oil and gas sector: Data synthesis and method development 20240625T120000
X-WR-TIMEZONE:America/New_York
X-WR-CALNAME:BayAreaScience.org
BEGIN:VEVENT
URL;VALUE=URI:https://www.bayareascience.org/calendar/index.php?com=detail&eID=36204
DTSTART:20240625T120000
DTEND:20240625T130000
SUMMARY:Remote sensing of greenhouse gas emissions from the oil and gas sector: Data synthesis and method development
DESCRIPTION:\n______________________________\nThis Event Downloaded From a Helios Calendar Powered Site
LOCATION:Green Earth Sciences Building - 367 Panama St Room 365\, Stanford University\, Stanford\, CA  94305
CATEGORIES:BayAreaScience.org Events
PRIORITY:0
TRANSP:TRANSPARENT
END:VEVENT
END:VCALENDAR