BEGIN:VCALENDAR
VERSION:2.0
METHOD:PUBLISH
CALSCALE:GREGORIAN
PRODID:-//Refresh Web Development//Helios Calendar//EN
X-FROM-URL:https://www.bayareascience.org/calendar/index.php?com=details&eID=36219
X-WR-RELCALID:BayAreaScience.org 'DoppelgÃ¤ngersÂ³' 20240624T203000
X-WR-TIMEZONE:America/New_York
X-WR-CALNAME:BayAreaScience.org
BEGIN:VEVENT
URL;VALUE=URI:https://www.bayareascience.org/calendar/index.php?com=detail&eID=36219
DTSTART:20240624T203000
DTEND:20240624T214300
SUMMARY:'DoppelgÃ¤ngersÂ³'
DESCRIPTION:Throw away all common sense and tap into your madness as you follow Dr. Nelly Ben Hayoun-StÃ©panian âŽ¯ a London-based artist and educator of Armenian and Algerian descent âŽ¯ on a fascinating...\n______________________________\nThis Event Downloaded From a Helios Calendar Powered Site
LOCATION:The New Parkway Theater - 474 24th St \, Oakland\, CA  94709
CATEGORIES:BayAreaScience.org Events
PRIORITY:0
TRANSP:TRANSPARENT
END:VEVENT
END:VCALENDAR