BEGIN:VCALENDAR
VERSION:2.0
METHOD:PUBLISH
CALSCALE:GREGORIAN
PRODID:-//Refresh Web Development//Helios Calendar//EN
X-FROM-URL:https://www.bayareascience.org/calendar/index.php?com=details&eID=36230
X-WR-RELCALID:BayAreaScience.org The Lawrence Carnival 20240714T110000
X-WR-TIMEZONE:America/New_York
X-WR-CALNAME:BayAreaScience.org
BEGIN:VEVENT
URL;VALUE=URI:https://www.bayareascience.org/calendar/index.php?com=detail&eID=36230
DTSTART:20240714T110000
DTEND:20240714T150000
SUMMARY:The Lawrence Carnival
DESCRIPTION:Step right up to our pop-up boardwalk for a science carnival! Ooh and ahh as acrobats from Oaklandâ€™s own Les Aerielles soar through the air in a trapeze arts performance. Then\, try your...\n______________________________\nThis Event Downloaded From a Helios Calendar Powered Site
LOCATION:Lawrence Hall of Science - 1 Centennial Drive \, Berkeley\, CA USA 94720
CATEGORIES:BayAreaScience.org Events
PRIORITY:0
TRANSP:TRANSPARENT
END:VEVENT
END:VCALENDAR