BEGIN:VCALENDAR
VERSION:2.0
METHOD:PUBLISH
CALSCALE:GREGORIAN
PRODID:-//Refresh Web Development//Helios Calendar//EN
X-FROM-URL:https://www.bayareascience.org/calendar/index.php?com=details&eID=36231
X-WR-RELCALID:BayAreaScience.org 2024 Summer Science Games 20240811T110000
X-WR-TIMEZONE:America/New_York
X-WR-CALNAME:BayAreaScience.org
BEGIN:VEVENT
URL;VALUE=URI:https://www.bayareascience.org/calendar/index.php?com=detail&eID=36231
DTSTART:20240811T110000
DTEND:20240811T150000
SUMMARY:2024 Summer Science Games
DESCRIPTION:On the same day as the closing ceremony of the 2024 Paris Summer Olympic Games\, join us for a friendly competition. Like the Olympians\, you can be "Faster\, Higher\, Stronger - Together."...\n______________________________\nThis Event Downloaded From a Helios Calendar Powered Site
LOCATION:Lawrence Hall of Science - 1 Centennial Drive \, Berkeley\, CA USA 94720
CATEGORIES:BayAreaScience.org Events
PRIORITY:0
TRANSP:TRANSPARENT
END:VEVENT
END:VCALENDAR