BEGIN:VCALENDAR
VERSION:2.0
METHOD:PUBLISH
CALSCALE:GREGORIAN
PRODID:-//Refresh Web Development//Helios Calendar//EN
X-FROM-URL:https://www.bayareascience.org/calendar/index.php?com=details&eID=36241
X-WR-RELCALID:BayAreaScience.org Vintage Computer Festival 20240802T100000
X-WR-TIMEZONE:America/New_York
X-WR-CALNAME:BayAreaScience.org
BEGIN:VEVENT
URL;VALUE=URI:https://www.bayareascience.org/calendar/index.php?com=detail&eID=36241
DTSTART:20240802T100000
DTEND:20240802T170000
SUMMARY:Vintage Computer Festival
DESCRIPTION:A favorite among computer enthusiasts worldwide\, VCF is a two-day event offering an extraordinary showcase of historical computers with insights into their preservation and presentation.From...\n______________________________\nThis Event Downloaded From a Helios Calendar Powered Site
LOCATION:Computer History Museum - 1401 N Shoreline Blvd  \, Mountain View\, CA  94043
CATEGORIES:BayAreaScience.org Events
PRIORITY:0
TRANSP:TRANSPARENT
END:VEVENT
END:VCALENDAR