BEGIN:VCALENDAR
VERSION:2.0
METHOD:PUBLISH
CALSCALE:GREGORIAN
PRODID:-//Refresh Web Development//Helios Calendar//EN
X-FROM-URL:https://www.bayareascience.org/calendar/index.php?com=details&eID=36244
X-WR-RELCALID:BayAreaScience.org Stewardship Saturday: Experiencing Fish Kitchen 20240720T113000
X-WR-TIMEZONE:America/New_York
X-WR-CALNAME:BayAreaScience.org
BEGIN:VEVENT
URL;VALUE=URI:https://www.bayareascience.org/calendar/index.php?com=detail&eID=36244
DTSTART:20240720T113000
DTEND:20240720T163000
SUMMARY:Stewardship Saturday: Experiencing Fish Kitchen
DESCRIPTION:oin us for an extra Stewardship Saturday in the month of July! During this exclusive behind-the-scenes opportunity you will have the chance to support our hard-working volunteer crews during our...\n______________________________\nThis Event Downloaded From a Helios Calendar Powered Site
LOCATION:Marine Mammal Center - 2000 Bunker Road \, Sausalito\, CA  94965
CATEGORIES:BayAreaScience.org Events
PRIORITY:0
TRANSP:TRANSPARENT
END:VEVENT
END:VCALENDAR