BEGIN:VCALENDAR
VERSION:2.0
METHOD:PUBLISH
CALSCALE:GREGORIAN
PRODID:-//Refresh Web Development//Helios Calendar//EN
X-FROM-URL:https://www.bayareascience.org/calendar/index.php?com=details&eID=36245
X-WR-RELCALID:BayAreaScience.org Astro 101: Sights of the Cosmos, Intro to Astronomy 20240705T201500
X-WR-TIMEZONE:America/New_York
X-WR-CALNAME:BayAreaScience.org
BEGIN:VEVENT
URL;VALUE=URI:https://www.bayareascience.org/calendar/index.php?com=detail&eID=36245
DTSTART:20240705T201500
DTEND:20240705T211500
SUMMARY:Astro 101: Sights of the Cosmos\, Intro to Astronomy
DESCRIPTION:This event provides a different introduction to astronomy than our Intro to the Night Sky talks. During this hour\, you'll gain an appreciation for the size and scale...\n______________________________\nThis Event Downloaded From a Helios Calendar Powered Site
LOCATION:San Jose Astronomical Association - Houge Park 3972 Twilight Drive\, San Jose\, CA  95124
CATEGORIES:BayAreaScience.org Events
PRIORITY:0
TRANSP:TRANSPARENT
END:VEVENT
END:VCALENDAR