BEGIN:VCALENDAR
VERSION:2.0
METHOD:PUBLISH
CALSCALE:GREGORIAN
PRODID:-//Refresh Web Development//Helios Calendar//EN
X-FROM-URL:https://www.bayareascience.org/calendar/index.php?com=details&eID=36246
X-WR-RELCALID:BayAreaScience.org Plastic Free Recycling Center Tour - FULL 20240720T110000
X-WR-TIMEZONE:America/New_York
X-WR-CALNAME:BayAreaScience.org
BEGIN:VEVENT
URL;VALUE=URI:https://www.bayareascience.org/calendar/index.php?com=detail&eID=36246
DTSTART:20240720T110000
DTEND:20240720T123000
SUMMARY:Plastic Free Recycling Center Tour - FULL
DESCRIPTION:Join us for a free Berkeley Recycling Tour this Plastic Free July and dive deeper into the world of recycling. Discover how recyclables are prepared for markets\, learn about source separation\,...\n______________________________\nThis Event Downloaded From a Helios Calendar Powered Site
LOCATION:Berkeley Recycling Center - 669 Gilman St \, Berkeley\, CA  94710
CATEGORIES:BayAreaScience.org Events
PRIORITY:0
TRANSP:TRANSPARENT
END:VEVENT
END:VCALENDAR