BEGIN:VCALENDAR
VERSION:2.0
METHOD:PUBLISH
CALSCALE:GREGORIAN
PRODID:-//Refresh Web Development//Helios Calendar//EN
X-FROM-URL:https://www.bayareascience.org/calendar/index.php?com=details&eID=36248
X-WR-RELCALID:BayAreaScience.org Perils of Plastic Foodware and the Path to Healthier Materials 20240713T113000
X-WR-TIMEZONE:America/New_York
X-WR-CALNAME:BayAreaScience.org
BEGIN:VEVENT
URL;VALUE=URI:https://www.bayareascience.org/calendar/index.php?com=detail&eID=36248
DTSTART:20240713T113000
DTEND:20240713T123000
SUMMARY:Perils of Plastic Foodware and the Path to Healthier Materials
DESCRIPTION:Come join us for an eye-opening event with Sue Chiang! Learn about the dangers of plastics in our foodware and discover the journey towards healthier materials. Sue Chiang will share valuable insights...\n______________________________\nThis Event Downloaded From a Helios Calendar Powered Site
LOCATION:Downtown Berkeley Farmers' Market - 1947 Center St \, Berkeley\, CA  94704
CATEGORIES:BayAreaScience.org Events
PRIORITY:0
TRANSP:TRANSPARENT
END:VEVENT
END:VCALENDAR