BEGIN:VCALENDAR
VERSION:2.0
METHOD:PUBLISH
CALSCALE:GREGORIAN
PRODID:-//Refresh Web Development//Helios Calendar//EN
X-FROM-URL:https://www.bayareascience.org/calendar/index.php?com=details&eID=36266
X-WR-RELCALID:BayAreaScience.org Gliese 12 B: A Promising Earth-to-Venus-Sized Exoplanet - Livestream 20240627T120000
X-WR-TIMEZONE:America/New_York
X-WR-CALNAME:BayAreaScience.org
BEGIN:VEVENT
URL;VALUE=URI:https://www.bayareascience.org/calendar/index.php?com=detail&eID=36266
DTSTART:20240627T120000
DTEND:20240627T143000
SUMMARY:Gliese 12 B: A Promising Earth-to-Venus-Sized Exoplanet - Livestream
DESCRIPTION:When scientists found the first exoplanets over 30 years ago\, the discovery defied all expectations. In the following decades\, with the advent of NASA's Kepler and TESS...\n______________________________\nThis Event Downloaded From a Helios Calendar Powered Site
LOCATION:SETI Institute -  \, \, CA  
CATEGORIES:BayAreaScience.org Events
PRIORITY:0
TRANSP:TRANSPARENT
END:VEVENT
END:VCALENDAR