BEGIN:VCALENDAR
VERSION:2.0
METHOD:PUBLISH
CALSCALE:GREGORIAN
PRODID:-//Refresh Web Development//Helios Calendar//EN
X-FROM-URL:https://www.bayareascience.org/calendar/index.php?com=details&eID=36267
X-WR-RELCALID:BayAreaScience.org Work to Zero: Leveraging Safety Technology to Eliminate Serious Workplace Injuries and Fatalities - Livestream 20240813T120000
X-WR-TIMEZONE:America/New_York
X-WR-CALNAME:BayAreaScience.org
BEGIN:VEVENT
URL;VALUE=URI:https://www.bayareascience.org/calendar/index.php?com=detail&eID=36267
DTSTART:20240813T120000
DTEND:20240813T130000
SUMMARY:Work to Zero: Leveraging Safety Technology to Eliminate Serious Workplace Injuries and Fatalities - Livestream
DESCRIPTION:Safety technology can be used in occupational settings to mitigate or even eliminate hazards. However\, its implementation in workplaces has not been widely adopted. To understand the state of safety...\n______________________________\nThis Event Downloaded From a Helios Calendar Powered Site
LOCATION:UC Berkeley -  \, \, CA  
CATEGORIES:BayAreaScience.org Events
PRIORITY:0
TRANSP:TRANSPARENT
END:VEVENT
END:VCALENDAR