BEGIN:VCALENDAR
VERSION:2.0
METHOD:PUBLISH
CALSCALE:GREGORIAN
PRODID:-//Refresh Web Development//Helios Calendar//EN
X-FROM-URL:https://www.bayareascience.org/calendar/index.php?com=details&eID=36272
X-WR-RELCALID:BayAreaScience.org Open Question: Artificial Intuition Can machines act naturally? 20250123T190000
X-WR-TIMEZONE:America/New_York
X-WR-CALNAME:BayAreaScience.org
BEGIN:VEVENT
URL;VALUE=URI:https://www.bayareascience.org/calendar/index.php?com=detail&eID=36272
DTSTART:20250123T190000
DTEND:20250123T200000
SUMMARY:Open Question: Artificial Intuition Can machines act naturally?
DESCRIPTION:What do machines and mother nature have in common? Finding novel solutions to existing problems\, of course. Learn about AI and biomimicry at Open Question - only at the Exploratorium.Part...\n______________________________\nThis Event Downloaded From a Helios Calendar Powered Site
LOCATION:ExplOratorium - Pier 15 (Embarcadero at Green Street)  \, San Francisco\, CA USA 94111
CATEGORIES:BayAreaScience.org Events
PRIORITY:0
TRANSP:TRANSPARENT
END:VEVENT
END:VCALENDAR