BEGIN:VCALENDAR
VERSION:2.0
METHOD:PUBLISH
CALSCALE:GREGORIAN
PRODID:-//Refresh Web Development//Helios Calendar//EN
X-FROM-URL:https://www.bayareascience.org/calendar/index.php?com=details&eID=36273
X-WR-RELCALID:BayAreaScience.org Open Question: Health Tech - When does Tech Make Us Healthier? 20250320T190000
X-WR-TIMEZONE:America/New_York
X-WR-CALNAME:BayAreaScience.org
BEGIN:VEVENT
URL;VALUE=URI:https://www.bayareascience.org/calendar/index.php?com=detail&eID=36273
DTSTART:20250320T190000
DTEND:20250320T200000
SUMMARY:Open Question: Health Tech - When does Tech Make Us Healthier?
DESCRIPTION:Technology has made health seemingly quantifiable and trackable\, but does it actually improve our well-being? Co-presented with UC Davis Grand Challenges\, this Open Question session invites you...\n______________________________\nThis Event Downloaded From a Helios Calendar Powered Site
LOCATION:ExplOratorium - Pier 15 (Embarcadero at Green Street)  \, San Francisco\, CA USA 94111
CATEGORIES:BayAreaScience.org Events
PRIORITY:0
TRANSP:TRANSPARENT
END:VEVENT
END:VCALENDAR