BEGIN:VCALENDAR
VERSION:2.0
METHOD:PUBLISH
CALSCALE:GREGORIAN
PRODID:-//Refresh Web Development//Helios Calendar//EN
X-FROM-URL:https://www.bayareascience.org/calendar/index.php?com=details&eID=36274
X-WR-RELCALID:BayAreaScience.org Twists and Turns in Teaching Evolution - Livestream 20240711T160000
X-WR-TIMEZONE:America/New_York
X-WR-CALNAME:BayAreaScience.org
BEGIN:VEVENT
URL;VALUE=URI:https://www.bayareascience.org/calendar/index.php?com=detail&eID=36274
DTSTART:20240711T160000
DTEND:20240711T170000
SUMMARY:Twists and Turns in Teaching Evolution - Livestream
DESCRIPTION:Multiple controversies over the teaching of evolution in public schools have rocked the nation over the past century. Evolutionâ€™s foes have consistently used the same arguments\, but their...\n______________________________\nThis Event Downloaded From a Helios Calendar Powered Site
LOCATION:Skeptical Inquirer -  \, \, CA  
CATEGORIES:BayAreaScience.org Events
PRIORITY:0
TRANSP:TRANSPARENT
END:VEVENT
END:VCALENDAR