BEGIN:VCALENDAR
VERSION:2.0
METHOD:PUBLISH
CALSCALE:GREGORIAN
PRODID:-//Refresh Web Development//Helios Calendar//EN
X-FROM-URL:https://www.bayareascience.org/calendar/index.php?com=details&eID=36276
X-WR-RELCALID:BayAreaScience.org Using Virtual Reality for Well-being, Social Connections, and Meaningful Experiences 20240716T140000
X-WR-TIMEZONE:America/New_York
X-WR-CALNAME:BayAreaScience.org
BEGIN:VEVENT
URL;VALUE=URI:https://www.bayareascience.org/calendar/index.php?com=detail&eID=36276
DTSTART:20240716T140000
DTEND:20240716T150000
SUMMARY:Using Virtual Reality for Well-being\, Social Connections\, and Meaningful Experiences
DESCRIPTION:This lecture delves into the past\, present\, and future of research on XR technology\, which encompasses augmented\, virtual\, and mixed reality (AR\, VR\, and MR). We will cover what the technology...\n______________________________\nThis Event Downloaded From a Helios Calendar Powered Site
LOCATION:Belmont Village Senior Living - 1100 San Pablo Ave \, Albany\, CA  94706
CATEGORIES:BayAreaScience.org Events
PRIORITY:0
TRANSP:TRANSPARENT
END:VEVENT
END:VCALENDAR