BEGIN:VCALENDAR
VERSION:2.0
METHOD:PUBLISH
CALSCALE:GREGORIAN
PRODID:-//Refresh Web Development//Helios Calendar//EN
X-FROM-URL:https://www.bayareascience.org/calendar/index.php?com=details&eID=36277
X-WR-RELCALID:BayAreaScience.org Open Question: Bioeconomy - What do sustainable food systems look like? 20240725T190000
X-WR-TIMEZONE:America/New_York
X-WR-CALNAME:BayAreaScience.org
BEGIN:VEVENT
URL;VALUE=URI:https://www.bayareascience.org/calendar/index.php?com=detail&eID=36277
DTSTART:20240725T190000
DTEND:20240725T200000
SUMMARY:Open Question: Bioeconomy - What do sustainable food systems look like?
DESCRIPTION:Building sustainable food systems is an urgent issue around the world. In 2021\, the UN estimated that over one-third of available food goes uneaten through loss or waste worldwide - creating a...\n______________________________\nThis Event Downloaded From a Helios Calendar Powered Site
LOCATION:ExplOratorium - Pier 15 (Embarcadero at Green Street)  \, San Francisco\, CA USA 94111
CATEGORIES:BayAreaScience.org Events
PRIORITY:0
TRANSP:TRANSPARENT
END:VEVENT
END:VCALENDAR