BEGIN:VCALENDAR
VERSION:2.0
METHOD:PUBLISH
CALSCALE:GREGORIAN
PRODID:-//Refresh Web Development//Helios Calendar//EN
X-FROM-URL:https://www.bayareascience.org/calendar/index.php?com=details&eID=36278
X-WR-RELCALID:BayAreaScience.org Multimedia Forensics: Challenges and Opportunities in the Era of Large Models - Livestream 20240711T190000
X-WR-TIMEZONE:America/New_York
X-WR-CALNAME:BayAreaScience.org
BEGIN:VEVENT
URL;VALUE=URI:https://www.bayareascience.org/calendar/index.php?com=detail&eID=36278
DTSTART:20240711T190000
DTEND:20240711T203000
SUMMARY:Multimedia Forensics: Challenges and Opportunities in the Era of Large Models - Livestream
DESCRIPTION:With the implementation and wide application of related tools such as ChatGPT and Sora\, people realized that seeing is indeed no longer believing. More recently\, the emergence of diffusion models...\n______________________________\nThis Event Downloaded From a Helios Calendar Powered Site
LOCATION:IEEE Signal Processing Society -  \, \, CA  
CATEGORIES:BayAreaScience.org Events
PRIORITY:0
TRANSP:TRANSPARENT
END:VEVENT
END:VCALENDAR