BEGIN:VCALENDAR
VERSION:2.0
METHOD:PUBLISH
CALSCALE:GREGORIAN
PRODID:-//Refresh Web Development//Helios Calendar//EN
X-FROM-URL:https://www.bayareascience.org/calendar/index.php?com=details&eID=36282
X-WR-RELCALID:BayAreaScience.org What Does Machine Learning Have to Offer Mathematics? 20240722T173000
X-WR-TIMEZONE:America/New_York
X-WR-CALNAME:BayAreaScience.org
BEGIN:VEVENT
URL;VALUE=URI:https://www.bayareascience.org/calendar/index.php?com=detail&eID=36282
DTSTART:20240722T173000
DTEND:20240722T173000
SUMMARY:What Does Machine Learning Have to Offer Mathematics?
DESCRIPTION:The interaction of machine learning with math has attracted a lot of attention\, because mathematics is in some respects a closed world with well-defined rules (like chess\, and unlike poetry-writing)...\n______________________________\nThis Event Downloaded From a Helios Calendar Powered Site
LOCATION:Calvin Laboratory - UC Berkeley Auditorium\, Berkeley\, CA  94720
CATEGORIES:BayAreaScience.org Events
PRIORITY:0
TRANSP:TRANSPARENT
END:VEVENT
END:VCALENDAR