BEGIN:VCALENDAR
VERSION:2.0
METHOD:PUBLISH
CALSCALE:GREGORIAN
PRODID:-//Refresh Web Development//Helios Calendar//EN
X-FROM-URL:https://www.bayareascience.org/calendar/index.php?com=details&eID=36284
X-WR-RELCALID:BayAreaScience.org Let's Try and Be More Tolerant: On Tolerant Property Testing and Distance Approximation 20240806T163000
X-WR-TIMEZONE:America/New_York
X-WR-CALNAME:BayAreaScience.org
BEGIN:VEVENT
URL;VALUE=URI:https://www.bayareascience.org/calendar/index.php?com=detail&eID=36284
DTSTART:20240806T163000
DTEND:20240806T163000
SUMMARY:Let's Try and Be More Tolerant: On Tolerant Property Testing and Distance Approximation
DESCRIPTION:A property testing algorithm is required to accept objects that have a prespecified property P and reject those that are relatively far from having P. To this end\, it is given...\n______________________________\nThis Event Downloaded From a Helios Calendar Powered Site
LOCATION:Calvin Laboratory - UC Berkeley Auditorium\, Berkeley\, CA  94720
CATEGORIES:BayAreaScience.org Events
PRIORITY:0
TRANSP:TRANSPARENT
END:VEVENT
END:VCALENDAR