BEGIN:VCALENDAR
VERSION:2.0
METHOD:PUBLISH
CALSCALE:GREGORIAN
PRODID:-//Refresh Web Development//Helios Calendar//EN
X-FROM-URL:https://www.bayareascience.org/calendar/index.php?com=details&eID=36287
X-WR-RELCALID:BayAreaScience.org Nerd Nite SF #144: Virtual Sex, Psychedelic Drugs, and the Philosophy of War  20240717T190000
X-WR-TIMEZONE:America/New_York
X-WR-CALNAME:BayAreaScience.org
BEGIN:VEVENT
URL;VALUE=URI:https://www.bayareascience.org/calendar/index.php?com=detail&eID=36287
DTSTART:20240717T190000
DTEND:20240717T220000
SUMMARY:Nerd Nite SF #144: Virtual Sex\, Psychedelic Drugs\, and the Philosophy of War 
DESCRIPTION:Itâ€™s Hot Nerd Summer and weâ€™re playing the hits! Weâ€™re bringing the traditional trifecta of â€œsex\, drugs\, and rock nâ€™ rollâ€ into the modern age with sexuality...\n______________________________\nThis Event Downloaded From a Helios Calendar Powered Site
LOCATION:Rickshaw Stop - 155 Fell St. @ Van Ness \, San Francisco\, CA  94102
CATEGORIES:BayAreaScience.org Events
PRIORITY:0
TRANSP:TRANSPARENT
END:VEVENT
END:VCALENDAR