BEGIN:VCALENDAR
VERSION:2.0
METHOD:PUBLISH
CALSCALE:GREGORIAN
PRODID:-//Refresh Web Development//Helios Calendar//EN
X-FROM-URL:https://www.bayareascience.org/calendar/index.php?com=details&eID=36289
X-WR-RELCALID:BayAreaScience.org Designing Tomorrow - Livestream 20240914T103000
X-WR-TIMEZONE:America/New_York
X-WR-CALNAME:BayAreaScience.org
BEGIN:VEVENT
URL;VALUE=URI:https://www.bayareascience.org/calendar/index.php?com=detail&eID=36289
DTSTART:20240914T103000
DTEND:20240914T120000
SUMMARY:Designing Tomorrow - Livestream
DESCRIPTION:The half-century history of environmental protection is\, at best\, mixed and the approaches of the past will need to be significantly changed if we are going to realize a sustainable future. While...\n______________________________\nThis Event Downloaded From a Helios Calendar Powered Site
LOCATION:California Section American Chemical Society -  \, \, CA  
CATEGORIES:BayAreaScience.org Events
PRIORITY:0
TRANSP:TRANSPARENT
END:VEVENT
END:VCALENDAR