BEGIN:VCALENDAR
VERSION:2.0
METHOD:PUBLISH
CALSCALE:GREGORIAN
PRODID:-//Refresh Web Development//Helios Calendar//EN
X-FROM-URL:https://www.bayareascience.org/calendar/index.php?com=details&eID=36291
X-WR-RELCALID:BayAreaScience.org The Science Behind 'Inside Out 2' - Livestream 20240709T103000
X-WR-TIMEZONE:America/New_York
X-WR-CALNAME:BayAreaScience.org
BEGIN:VEVENT
URL;VALUE=URI:https://www.bayareascience.org/calendar/index.php?com=detail&eID=36291
DTSTART:20240709T103000
DTEND:20240709T113000
SUMMARY:The Science Behind 'Inside Out 2' - Livestream
DESCRIPTION:Join us to explore the science behind Pixarâ€™s highly anticipated new film\, Inside Out 2\, and delve into the...\n______________________________\nThis Event Downloaded From a Helios Calendar Powered Site
LOCATION:UC Berkeley -  \, \, CA  
CATEGORIES:BayAreaScience.org Events
PRIORITY:0
TRANSP:TRANSPARENT
END:VEVENT
END:VCALENDAR