BEGIN:VCALENDAR
VERSION:2.0
METHOD:PUBLISH
CALSCALE:GREGORIAN
PRODID:-//Refresh Web Development//Helios Calendar//EN
X-FROM-URL:https://www.bayareascience.org/calendar/index.php?com=details&eID=36298
X-WR-RELCALID:BayAreaScience.org Volunteer Opportunity: Trail Maintenance Work Day at the EEC 20240714T093000
X-WR-TIMEZONE:America/New_York
X-WR-CALNAME:BayAreaScience.org
BEGIN:VEVENT
URL;VALUE=URI:https://www.bayareascience.org/calendar/index.php?com=detail&eID=36298
DTSTART:20240714T093000
DTEND:20240714T120000
SUMMARY:Volunteer Opportunity: Trail Maintenance Work Day at the EEC
DESCRIPTION:Help us with some trail maintenance around the Environmental Education Center! Activities may include weeding\, litter pickup\, or spreading gravel. All gloves and tools will be provided\, so just...\n______________________________\nThis Event Downloaded From a Helios Calendar Powered Site
LOCATION:Don Edwards Refuge Environmental Education Center - 1751 Grand Blvd \, Alviso\, CA  95002
CATEGORIES:BayAreaScience.org Events
PRIORITY:0
TRANSP:TRANSPARENT
END:VEVENT
END:VCALENDAR